BEGIN:VCALENDAR
VERSION:2.0
PRODID:-//InvisionCommunity Events 4.7.23//EN
METHOD:PUBLISH
CALSCALE:GREGORIAN
REFRESH-INTERVAL:PT15M
X-PUBLISHED-TTL:PT15M
X-WR-CALNAME:Calendar
NAME:Calendar
BEGIN:VTIMEZONE
TZID:Europe/London
TZURL:http://tzurl.org/zoneinfo/Europe/London
X-LIC-LOCATION:Europe/London
BEGIN:DAYLIGHT
TZOFFSETFROM:+0000
TZOFFSETTO:+0100
TZNAME:BST
DTSTART:20250330T020000Z
RRULE:FREQ=YEARLY;BYMONTH=3;BYDAY=-1SU
END:DAYLIGHT
BEGIN:STANDARD
TZOFFSETFROM:+0100
TZOFFSETTO:+0000
TZNAME:GMT
DTSTART:20251026T020000Z
RRULE:FREQ=YEARLY;BYMONTH=10;BYDAY=-1SU
END:STANDARD
END:VTIMEZONE
BEGIN:VEVENT
SUMMARY:Submission Deadline for inclusion January 1st Launch
DTSTAMP:20251228T191221Z
SEQUENCE:0
UID:193-12-199a849dea05b98580177b92a7cad0aa@bolterandchainsword.com
ORGANIZER;CN="mini_painting_mike":bolter@bolterandchainsword
	.com
DESCRIPTION:\n	Hi all.\n\n\n\n	 \n\n\n\n	For additional glory\, and poi
	nts\, submission of what projects you intend to start for the Bunker Bingo
	 Challenge (any pics also welcome!) to be included in the first monthly ro
	und up and launch off the challenge on New Year's day needs to be submitte
	d by the close of play NYE!\n\n
DTSTART;VALUE=DATE:20251231
END:VEVENT
END:VCALENDAR
