BEGIN:VCALENDAR
VERSION:2.0
PRODID:-//InvisionCommunity Events 4.7.23//EN
METHOD:PUBLISH
CALSCALE:GREGORIAN
REFRESH-INTERVAL:PT15M
X-PUBLISHED-TTL:PT15M
X-WR-CALNAME:Community Calendar
NAME:Community Calendar
BEGIN:VTIMEZONE
TZID:Europe/London
TZURL:http://tzurl.org/zoneinfo/Europe/London
X-LIC-LOCATION:Europe/London
BEGIN:DAYLIGHT
TZOFFSETFROM:+0000
TZOFFSETTO:+0100
TZNAME:BST
DTSTART:20240331T020000Z
RRULE:FREQ=YEARLY;BYMONTH=3;BYDAY=-1SU
END:DAYLIGHT
BEGIN:STANDARD
TZOFFSETFROM:+0100
TZOFFSETTO:+0000
TZNAME:GMT
DTSTART:20241027T020000Z
RRULE:FREQ=YEARLY;BYMONTH=10;BYDAY=-1SU
END:STANDARD
END:VTIMEZONE
BEGIN:VEVENT
SUMMARY:Kill Team: Critical Strike II
DTSTAMP:20231104T213607Z
SEQUENCE:0
UID:115-1-199a849dea05b98580177b92a7cad0aa@bolterandchainsword.com
ORGANIZER;CN="Brother Tyler":bolter@bolterandchainsword.com
DESCRIPTION:\n	Kill Team: Critical Strike II\n\n\n\n	\n\n	Part of the Wa
	rhammer World Weekend Events collection\n\n\n\n	\nSpend 2 days playing Kil
	l Team with like-minded hobbyists\, proving your strategic brilliance in t
	his two-day six-game skirmish extravaganza\n\n\n\n	 \n\n\n\n	Eventbrite l
	ink\n\n
DTSTART:20240113T090000Z
DTEND:20240114T180000Z
END:VEVENT
END:VCALENDAR
