BEGIN:VCALENDAR
VERSION:2.0
PRODID:-//InvisionCommunity Events 4.7.23//EN
METHOD:PUBLISH
CALSCALE:GREGORIAN
REFRESH-INTERVAL:PT15M
X-PUBLISHED-TTL:PT15M
X-WR-CALNAME:Community Calendar
NAME:Community Calendar
BEGIN:VTIMEZONE
TZID:Europe/London
TZURL:http://tzurl.org/zoneinfo/Europe/London
X-LIC-LOCATION:Europe/London
BEGIN:DAYLIGHT
TZOFFSETFROM:+0000
TZOFFSETTO:+0100
TZNAME:BST
DTSTART:20240331T020000Z
RRULE:FREQ=YEARLY;BYMONTH=3;BYDAY=-1SU
END:DAYLIGHT
BEGIN:STANDARD
TZOFFSETFROM:+0100
TZOFFSETTO:+0000
TZNAME:GMT
DTSTART:20241027T020000Z
RRULE:FREQ=YEARLY;BYMONTH=10;BYDAY=-1SU
END:STANDARD
END:VTIMEZONE
BEGIN:VEVENT
SUMMARY:Adepticon
DTSTAMP:20231130T210723Z
SEQUENCE:0
UID:127-1-199a849dea05b98580177b92a7cad0aa@bolterandchainsword.com
ORGANIZER;CN="Brother Tyler":bolter@bolterandchainsword.com
DESCRIPTION:\n	ADEPTICON 2024\n22 YEARS AND COUNTING!\n\n\n\n	AdeptiCon 
	has grown consistently over the past twenty years\, from the humble 110 pe
	rson event in 2003\, to the amazing 6\,500 attendees AdeptiCon hosted in 2
	023. Over these twenty-two years\, AdeptiCon has been held at five differe
	nt venues. We have expanded from a handful of events to well over 675 tour
	naments\, event games\, and hobby seminars covering all aspects of the min
	iature war gaming hobby. Despite the continued growth and necessary expans
	ion\, we have made every effort to keep consistent focus on one major prio
	rity: to present to our attendees the highest quality wargaming event poss
	ible. This will remain our priority for 2024 and beyond.\n\n	 \n\n\n\n	Va
	riety\n\n\n\n	AdeptiCon hosts over 675 events - including board games\, ho
	bby seminars\, miniature games\, role-playing games\, team trivia\, and so
	cial gatherings. \n\n\n\n	 \n\n\n\n	Exhibitor Hall\n\n\n\n	Over 115 exhi
	bitors attend AdeptiCon every year to showcase their new products\, run de
	mos and interact with the community. Exhibitor Hall hours are 10 AM - 6 PM
	 on Thursday\, Friday and Saturday and 10 AM - 3 PM on Sunday.\n\n	 \n\n\
	n\n	Adepticon Official Website\n\n\n\n	Adepticon Facebook\n\n
DTSTART;VALUE=DATE:20240320
DTEND;VALUE=DATE:20240325
END:VEVENT
END:VCALENDAR
