BEGIN:VCALENDAR
VERSION:2.0
PRODID:-//InvisionCommunity Events 4.7.23//EN
METHOD:PUBLISH
CALSCALE:GREGORIAN
REFRESH-INTERVAL:PT15M
X-PUBLISHED-TTL:PT15M
X-WR-CALNAME:Community Calendar
NAME:Community Calendar
BEGIN:VTIMEZONE
TZID:Europe/London
TZURL:http://tzurl.org/zoneinfo/Europe/London
X-LIC-LOCATION:Europe/London
BEGIN:DAYLIGHT
TZOFFSETFROM:+0000
TZOFFSETTO:+0100
TZNAME:BST
DTSTART:20240331T020000Z
RRULE:FREQ=YEARLY;BYMONTH=3;BYDAY=-1SU
END:DAYLIGHT
BEGIN:STANDARD
TZOFFSETFROM:+0100
TZOFFSETTO:+0000
TZNAME:GMT
DTSTART:20241027T020000Z
RRULE:FREQ=YEARLY;BYMONTH=10;BYDAY=-1SU
END:STANDARD
END:VTIMEZONE
BEGIN:VEVENT
SUMMARY:Kill Team Critical Ops III
DTSTAMP:20240801T160458Z
SEQUENCE:0
UID:139-1-199a849dea05b98580177b92a7cad0aa@bolterandchainsword.com
ORGANIZER;CN="Brother Tyler":bolter@bolterandchainsword.com
DESCRIPTION:\n	Compete in a thrilling Warhammer 40\,000: Kill Team tourn
	ament with three matched play games\, a painting competition\, and awards 
	to be won.\n\n\n\n	 \n\n\n\n	About this event\n\n	Muster your kill team a
	nd re-enter the Gallowdark in three matched play games of Warhammer 40\,00
	0: Kill Team.\n\n\n\n	 \n\n\n\n	See more information at the Eventbrite pa
	ge.\n\n
DTSTART:20240829T000000Z
DTEND:20240829T180000Z
END:VEVENT
END:VCALENDAR
