BEGIN:VCALENDAR
VERSION:2.0
PRODID:-//InvisionCommunity Events 4.7.23//EN
METHOD:PUBLISH
CALSCALE:GREGORIAN
REFRESH-INTERVAL:PT15M
X-PUBLISHED-TTL:PT15M
X-WR-CALNAME:Community Calendar
NAME:Community Calendar
BEGIN:VTIMEZONE
TZID:Europe/London
TZURL:http://tzurl.org/zoneinfo/Europe/London
X-LIC-LOCATION:Europe/London
BEGIN:DAYLIGHT
TZOFFSETFROM:+0000
TZOFFSETTO:+0100
TZNAME:BST
DTSTART:20240331T020000Z
RRULE:FREQ=YEARLY;BYMONTH=3;BYDAY=-1SU
END:DAYLIGHT
BEGIN:STANDARD
TZOFFSETFROM:+0100
TZOFFSETTO:+0000
TZNAME:GMT
DTSTART:20241027T020000Z
RRULE:FREQ=YEARLY;BYMONTH=10;BYDAY=-1SU
END:STANDARD
END:VTIMEZONE
BEGIN:VEVENT
SUMMARY:Kill Team Operations (4 Player Team Event)
DTSTAMP:20240801T172658Z
SEQUENCE:0
UID:144-1-199a849dea05b98580177b92a7cad0aa@bolterandchainsword.com
ORGANIZER;CN="Brother Tyler":bolter@bolterandchainsword.com
DESCRIPTION:\n	Spend a weekend playing Kill Team as a team\, and claim g
	lory in this two-day\, five-game skirmish battle extravaganza.\n\n\n\n	 \
	n\n\n\n	About this event\n\n	Take a team and spend a weekend with like-min
	ded hobbyists\, proving your strategic skirmish brilliance in this two-day
	\, five-game Kill Team team tournament\, which uses the Kill Team: Critica
	l Ops – Tac Ops &amp\; Mission Card Pack and the Critical Operations 202
	2 Close Quarters update. With awards for painting prowess and sportsmanshi
	p\, there's more than one way to cover yourself in glory!\n\n\n\n	 \n\n\n
	\n	See more information at the Eventbrite page.\n\n
DTSTART:20241019T090000Z
DTEND:20241020T180000Z
END:VEVENT
END:VCALENDAR
