BEGIN:VCALENDAR
VERSION:2.0
PRODID:-//InvisionCommunity Events 4.7.23//EN
METHOD:PUBLISH
CALSCALE:GREGORIAN
REFRESH-INTERVAL:PT15M
X-PUBLISHED-TTL:PT15M
X-WR-CALNAME:Community Calendar
NAME:Community Calendar
BEGIN:VTIMEZONE
TZID:Europe/London
TZURL:http://tzurl.org/zoneinfo/Europe/London
X-LIC-LOCATION:Europe/London
BEGIN:DAYLIGHT
TZOFFSETFROM:+0000
TZOFFSETTO:+0100
TZNAME:BST
DTSTART:20250330T020000Z
RRULE:FREQ=YEARLY;BYMONTH=3;BYDAY=-1SU
END:DAYLIGHT
BEGIN:STANDARD
TZOFFSETFROM:+0100
TZOFFSETTO:+0000
TZNAME:GMT
DTSTART:20251026T020000Z
RRULE:FREQ=YEARLY;BYMONTH=10;BYDAY=-1SU
END:STANDARD
END:VTIMEZONE
BEGIN:VEVENT
SUMMARY:Kill Team: Critical Strike IV
DTSTAMP:20241114T200753Z
SEQUENCE:0
UID:156-1-199a849dea05b98580177b92a7cad0aa@bolterandchainsword.com
ORGANIZER;CN="Brother Tyler":bolter@bolterandchainsword.com
DESCRIPTION:\n	Kill Team: Critical Strike IV\n\n\n\n	 \n\n\n\n	Spend a 
	weekend playing Kill Team with like-minded hobbyists and proving your stra
	tegic brilliance in this two-day skirmish extravaganza.\n\n\n\n	 \n\n\n\n
		Eventbrite page\n\n
DTSTART:20250111T090000Z
DTEND:20250112T180000Z
END:VEVENT
END:VCALENDAR
