BEGIN:VCALENDAR
VERSION:2.0
PRODID:-//InvisionCommunity Events 4.7.23//EN
METHOD:PUBLISH
CALSCALE:GREGORIAN
REFRESH-INTERVAL:PT15M
X-PUBLISHED-TTL:PT15M
X-WR-CALNAME:Community Calendar
NAME:Community Calendar
BEGIN:VTIMEZONE
TZID:Europe/London
TZURL:http://tzurl.org/zoneinfo/Europe/London
X-LIC-LOCATION:Europe/London
BEGIN:DAYLIGHT
TZOFFSETFROM:+0000
TZOFFSETTO:+0100
TZNAME:BST
DTSTART:20250330T020000Z
RRULE:FREQ=YEARLY;BYMONTH=3;BYDAY=-1SU
END:DAYLIGHT
BEGIN:STANDARD
TZOFFSETFROM:+0100
TZOFFSETTO:+0000
TZNAME:GMT
DTSTART:20251026T020000Z
RRULE:FREQ=YEARLY;BYMONTH=10;BYDAY=-1SU
END:STANDARD
END:VTIMEZONE
BEGIN:VEVENT
SUMMARY:Weekday Warhammer: Kill Team Covert Operations
DTSTAMP:20250211T204157Z
SEQUENCE:0
UID:162-1-199a849dea05b98580177b92a7cad0aa@bolterandchainsword.com
ORGANIZER;CN="Brother Tyler":bolter@bolterandchainsword.com
DESCRIPTION:\n	\n		\n			Weekday Warhammer: Kill Team Covert Operations\n
			\n	\n\n\n\n	\n		\n			Compete in a thrilling Warhammer 40\,000: Kill Team
	 tournament with three matched play games\, a painting competition\, and a
	wards to be won.\n		\n\n		\n			 \n		\n\n		\n			Eventbrite page\n		\n	\n\n
DTSTART:20250425T100000Z
DTEND:20250425T180000Z
END:VEVENT
END:VCALENDAR
