BEGIN:VCALENDAR
VERSION:2.0
PRODID:-//InvisionCommunity Events 4.7.23//EN
METHOD:PUBLISH
CALSCALE:GREGORIAN
REFRESH-INTERVAL:PT15M
X-PUBLISHED-TTL:PT15M
X-WR-CALNAME:Community Calendar
NAME:Community Calendar
BEGIN:VTIMEZONE
TZID:Europe/London
TZURL:http://tzurl.org/zoneinfo/Europe/London
X-LIC-LOCATION:Europe/London
BEGIN:DAYLIGHT
TZOFFSETFROM:+0000
TZOFFSETTO:+0100
TZNAME:BST
DTSTART:20220327T020000Z
RRULE:FREQ=YEARLY;BYMONTH=3;BYDAY=-1SU
END:DAYLIGHT
BEGIN:STANDARD
TZOFFSETFROM:+0100
TZOFFSETTO:+0000
TZNAME:GMT
DTSTART:20221030T020000Z
RRULE:FREQ=YEARLY;BYMONTH=10;BYDAY=-1SU
END:STANDARD
END:VTIMEZONE
BEGIN:VEVENT
SUMMARY:US Open Chicago: Hobby Class: Master Class
DTSTAMP:20220629T175534Z
SEQUENCE:0
UID:41-1-199a849dea05b98580177b92a7cad0aa@bolterandchainsword.com
ORGANIZER;CN="Brother Tyler":bolter@bolterandchainsword.com
DESCRIPTION:\n\n	US Open Chicago: Hobby Class: Master Class\n\n\n\n	Loca
	tion:\n\n\n\n	Hilton Downtown Chicago\n\n	720 South Michigan Avenue\n\n	Ch
	icago\, IL 60605\n\n\n\n	Learn Master Painter level techniques in this sma
	ll classroom setting. Includes an incredible Monster-Level Miniature.\n\n\
	n\n	About this event\n\n\n\n	Have you mastered the skills for your Battle 
	Ready models and want to take you paint game up to Parade Ready?\n\n\n\n	J
	oin the Games Workshop Team as they take you through the fundamentals and 
	techniques to take that next step to amazing paint. In this class we will 
	focus on skin tones\, cloth and metals using the Games Workshop Synessa\, 
	Voice of Slaanesh Model. This class will contain some airbrush work.\n\n\n
	\n	This class is intended for intermediate skilled painters who feel comfo
	rtable painting game-ready miniatures and are looking to step towards Para
	de Ready Miniatures.\n\n\n\n	This immersive master class will include 5 ho
	urs of instruction\, select Citadel paints\, premium Citadel brushes and C
	itadel hobby products as well as a Premium Games Workshop Model that is yo
	urs to keep.\n\n\n\n	Book your Room Here:\nhttps://book.passkey.com/event/
	50345863/owner/2874/home\n\n\n\n	Event information at:\nUS Open Chicago: H
	obby Class: Master Class Tickets\, Thu 6 Oct 2022 at 18:00 | Eventbrite\n\
	n
DTSTART:20221006T230000Z
DTEND:20221007T030000Z
END:VEVENT
END:VCALENDAR
