BEGIN:VCALENDAR
VERSION:2.0
PRODID:-//InvisionCommunity Events 4.7.23//EN
METHOD:PUBLISH
CALSCALE:GREGORIAN
REFRESH-INTERVAL:PT15M
X-PUBLISHED-TTL:PT15M
X-WR-CALNAME:Community Calendar
NAME:Community Calendar
BEGIN:VTIMEZONE
TZID:Europe/London
TZURL:http://tzurl.org/zoneinfo/Europe/London
X-LIC-LOCATION:Europe/London
BEGIN:DAYLIGHT
TZOFFSETFROM:+0000
TZOFFSETTO:+0100
TZNAME:BST
DTSTART:20220327T020000Z
RRULE:FREQ=YEARLY;BYMONTH=3;BYDAY=-1SU
END:DAYLIGHT
BEGIN:STANDARD
TZOFFSETFROM:+0100
TZOFFSETTO:+0000
TZNAME:GMT
DTSTART:20221030T020000Z
RRULE:FREQ=YEARLY;BYMONTH=10;BYDAY=-1SU
END:STANDARD
END:VTIMEZONE
BEGIN:VEVENT
SUMMARY:US Open Chicago: Hobby Class: Blending
DTSTAMP:20220629T180545Z
SEQUENCE:0
UID:43-1-199a849dea05b98580177b92a7cad0aa@bolterandchainsword.com
ORGANIZER;CN="Brother Tyler":bolter@bolterandchainsword.com
DESCRIPTION:\n\n	US Open Chicago: Hobby Class: Blending\n\n\n\n	Learn th
	e high-level techniques used by master painters to blend colors and shades
	 in this advanced painting course\n\n\n\n	About this event\n\n\n\n	This im
	mersive course on blending and shading models includes:\n\n\n\n		All mater
	ials required - including models\, paints and brushes\n	\n	\n		A free hobb
	y kit of paint and premium Citadel brushes\n	\n\n	You'll learn to combine 
	techniques\, such as:\n\n\n\n		Blending colors and shades\n	\n	\n		Light s
	ource and color theory\n	\n\n	Event information at:\nhttps://www.eventbrit
	e.com/e/us-open-chicago-hobby-class-blending-tickets-345698342047?aff=odcl
	eoeventsincollection&amp\;keep_tld=1\n\n\n\n	Location:\n\n\n\n	Hilton Down
	town Chicago\n\n	720 South Michigan Avenue\n\n	Chicago\, IL 60605\n\n
DTSTART:20221007T140000Z
DTEND:20221007T160000Z
END:VEVENT
END:VCALENDAR
