BEGIN:VCALENDAR
VERSION:2.0
PRODID:-//InvisionCommunity Events 4.7.23//EN
METHOD:PUBLISH
CALSCALE:GREGORIAN
REFRESH-INTERVAL:PT15M
X-PUBLISHED-TTL:PT15M
X-WR-CALNAME:Calendar
NAME:Calendar
BEGIN:VTIMEZONE
TZID:Europe/London
TZURL:http://tzurl.org/zoneinfo/Europe/London
X-LIC-LOCATION:Europe/London
BEGIN:DAYLIGHT
TZOFFSETFROM:+0000
TZOFFSETTO:+0100
TZNAME:BST
DTSTART:20230326T020000Z
RRULE:FREQ=YEARLY;BYMONTH=3;BYDAY=-1SU
END:DAYLIGHT
BEGIN:STANDARD
TZOFFSETFROM:+0100
TZOFFSETTO:+0000
TZNAME:GMT
DTSTART:20231029T020000Z
RRULE:FREQ=YEARLY;BYMONTH=10;BYDAY=-1SU
END:STANDARD
END:VTIMEZONE
BEGIN:VEVENT
SUMMARY:Kill Team: Critical Strike
DTSTAMP:20221205T113842Z
SEQUENCE:0
UID:74-7-199a849dea05b98580177b92a7cad0aa@bolterandchainsword.com
ORGANIZER;CN="Brother Tyler":bolter@bolterandchainsword.com
DESCRIPTION:\n	Battle it out with fellow Kill Team commanders in a four-
	round tournament that leaves you plenty of time free for socialising.\n\n\
	n\n	 \n\n\n\n	Eventbrite information\n\n\n\n	 \n\n\n\n	About this event\
	n\n\n\n	 \n\n\n\n	Outwit and outmanoeuvre your opponents in this fast-pac
	ed\, four-match Kill Team tournament!\n\n\n\n	 \n\n\n\n	Do you have what 
	it takes to secure victory? Battle it out with fellow commanders in an eve
	nt that leaves you with plenty of time for socialising and enjoying Warham
	mer World in-between games.\n\n\n\n	 \n\n\n\n	We have been hard at work t
	o create a safe and secure environment for you to get back to playing game
	s. Book your tickets now.\n\n\n\n	 \n\n\n\n	Event Essentials:\n\n\n\n	 \
	n\n\n\n	System: Warhammer 40\,000: Kill Team - Matched Play\n\n\n\n	 \n\n
	\n\n	Location: Warhammer World\, Willow Road\, Lenton\, Nottingham\, NG7 2
	WS\n\n\n\n	 \n\n\n\n	Missions: Critical Operations Mission Pack from the 
	Kill Team Core Book\n\n\n\n	 \n\n\n\n	Number of Games: Four\n\n\n\n	 \n\
	n\n\n	Kill Team selection: Create a Matched Roster as described on page 90
	 of the Kill Team Core Book.\n\n\n\n	 \n\n\n\n	Other Activities: Painting
	 competition and free exhibition entry\n\n\n\n	 \n\n\n\n	Tools of War: At
	tendees are expected to bring their Kill Team\, three barricades\, dice\, 
	measuring gauges or a tape measure\, all relevant rules publications\, and
	 at least 2 physical copies of their Matched Roster (one for the Event sta
	ff and one for yourself). It is recommended that you also bring a set of T
	ac Ops cards.\n\n\n\n	 \n\n\n\n	*Please note this will use Season 1 Kill 
	Team rules. There will not be any Into the Dark Tables at this event.\n\n\
	n\n	 \n\n\n\n	Full event pack available here.\n\n\n\n	 \n\n\n\n	Informat
	ion regarding Covid-19 safety precautions at Warhammer World can be found 
	here.\n\n\n\n	 \n\n\n\n	Please see terms and conditions below:\n\n\n\n	 
	\n\n\n\n	This ticket is issued by Games Workshop Limited (GW) for Warhamme
	r 40\,000 Kill Team: Critical Strike\, February 2023 (Event) at the Warham
	mer World Venue\, Lenton (Venue)\, and is subject to the following terms a
	nd conditions:\n\n\n\n	 \n\n\n\n		No children under the age of 18 years w
	ill be admitted to the Venue unless accompanied and supervised by an adult
	 aged 18 years or over. GW takes no responsibility for children under the 
	age of 18\, responsibility shall remain with the parent or guardian of the
	 relevant child at all times.\n	\n	\n		No smoking is permitted at the Venu
	e other than in areas designated for smoking.\n	\n	\n		No food or drink is
	 to be brought into the Venue. The Venue will make available food and drin
	k for purchase.\n	\n	\n		The unauthorised professional use of photographic
	 equipment is prohibited at the Venue.\n	\n	\n		Event details\, timings an
	d car park arrangements are subject to change and should be checked prior 
	to travelling.\n	\n	\n		GW and the Venue both reserve the right to conduct
	 security searches to all persons attending the Event and their possession
	s.\n	\n	\n		GW and the Venue both reserve the right to\, at their sole dis
	cretion\, refuse access to\, or remove from the Venue\, without a refund a
	ny person who\n	\n\n	\n			unreasonably refuses to be searched\;\n		\n		\n	
			is considered harmful\, undesirable or offensive\; or\n		\n		\n			is dee
	med necessary to remove in the interests of security.\n		\n	\n\n\n		The Ve
	nue is accessible to wheelchair users via the North entrance.\n	\n	\n		Ani
	mals are not permitted at the Venue with the exception of assistance dogs.
	\n	\n	\n		Official merchandise is only available inside the Venue.\n	\n	\n
			All attendees must be in possession of a valid ticket at all times. Obsc
	ured or altered tickets will become void and the holder may be refused adm
	ission.\n	\n	\n		Neither GW nor the Venue accepts responsibility for perso
	nal property brought into the Venue.\n	\n	\n		Entry to the Event is at you
	r own risk. To the extent permitted by law\, GW and the Venue exclude all 
	liability for loss\, damage or injury suffered by an attendee howsoever ca
	used.\n	\n\n	 \n\n\n\n		Attendees shall be responsible for and indemnify 
	GW fully for any loss or damage to GW’s property\, the Venue or the furn
	ishings or equipment at the Venue caused by the act or default of an atten
	dee.\n	\n	\n		GW may cancel or vary the Event (in whole or in part) due to
	 events or circumstances beyond GW’s control. Where we cancel the Event 
	in its entirety\, you will be offered a refund. However\, in all other cir
	cumstances (including where we make changes to the Event)\, you will not b
	e offered a refund. This does not affect your statutory rights.\n	\n	\n		P
	urchased tickets cannot be transferred or resold without the express permi
	ssion of GW.\n	\n	\n		Tickets cannot be exchanged or refunded after purcha
	se\, except in the case of a cancelled Event. This does not affect your st
	atutory rights.\n	\n	\n		If you are no longer able to attend the Event and
	 wish to discuss this with us\, please contact the events team at whworlde
	vents@gwplc.com.\n	\n	\n		Any complaints regarding the Event should be mad
	e to GW promptly before or during the Event. Please raise any issues with 
	the tournament organisers and stewards available at the Event\, or otherwi
	se by contacting the events team at whworldevents@gwplc.com..\n	\n\n	 \n\
	n\n\n		The wearing of costumes at the Event is permitted only on the follo
	wing basis:\n	\n\n	\n			Costumes must not be comprised\, in whole or in pa
	rt\, of any real (or realistic) equipment of any military unit in existenc
	e after 1900. This especially applies to camouflage clothing\, helmets etc
	.\n		\n		\n			Costumes must not utilise\, in whole or in part\, any real\,
	 scaled or replica weapons.\n		\n		\n			Costumes that indicate allegiance 
	or affiliation with any real political or military movement are strictly f
	orbidden.\n		\n		\n			Costumes must be designed with health and safety and
	 public decency in mind.\n		\n		\n			Costumes must be inspired by or relat
	e to the worlds and universes created by Games Workshop.\n		\n		\n			Atten
	dees may be asked to alter or remove any unacceptable costume and/or acces
	sories.\n		\n	\n
DTSTART:20230211T090000Z
DTEND:20230211T200100Z
END:VEVENT
END:VCALENDAR
