BEGIN:VCALENDAR
VERSION:2.0
PRODID:-//InvisionCommunity Events 4.7.23//EN
METHOD:PUBLISH
CALSCALE:GREGORIAN
REFRESH-INTERVAL:PT15M
X-PUBLISHED-TTL:PT15M
X-WR-CALNAME:Community Calendar
NAME:Community Calendar
BEGIN:VTIMEZONE
TZID:Europe/London
TZURL:http://tzurl.org/zoneinfo/Europe/London
X-LIC-LOCATION:Europe/London
BEGIN:DAYLIGHT
TZOFFSETFROM:+0000
TZOFFSETTO:+0100
TZNAME:BST
DTSTART:20230326T020000Z
RRULE:FREQ=YEARLY;BYMONTH=3;BYDAY=-1SU
END:DAYLIGHT
BEGIN:STANDARD
TZOFFSETFROM:+0100
TZOFFSETTO:+0000
TZNAME:GMT
DTSTART:20231029T020000Z
RRULE:FREQ=YEARLY;BYMONTH=10;BYDAY=-1SU
END:STANDARD
END:VTIMEZONE
BEGIN:VEVENT
SUMMARY:Black Library Open Submissions
DTSTAMP:20230111T155751Z
SEQUENCE:0
UID:78-1-199a849dea05b98580177b92a7cad0aa@bolterandchainsword.com
ORGANIZER;CN="Brother Tyler":bolter@bolterandchainsword.com
DESCRIPTION:\n	Information at Warhammer Community.\n\n\n\n	More instruct
	ions\n\n\n\n	 \n\n\n\n	Deadline is 11 February\, 2023.\n\n\n\n	 \n\n\n\n
		Discussions in the Black Library and NRBA forums.\n\n
DTSTART;VALUE=DATE:20230111
DTEND;VALUE=DATE:20230212
END:VEVENT
END:VCALENDAR
