BEGIN:VCALENDAR
VERSION:2.0
PRODID:-//InvisionCommunity Events 4.7.23//EN
METHOD:PUBLISH
CALSCALE:GREGORIAN
REFRESH-INTERVAL:PT15M
X-PUBLISHED-TTL:PT15M
X-WR-CALNAME:Community Calendar
NAME:Community Calendar
BEGIN:VTIMEZONE
TZID:Europe/London
TZURL:http://tzurl.org/zoneinfo/Europe/London
X-LIC-LOCATION:Europe/London
BEGIN:DAYLIGHT
TZOFFSETFROM:+0000
TZOFFSETTO:+0100
TZNAME:BST
DTSTART:20230326T020000Z
RRULE:FREQ=YEARLY;BYMONTH=3;BYDAY=-1SU
END:DAYLIGHT
BEGIN:STANDARD
TZOFFSETFROM:+0100
TZOFFSETTO:+0000
TZNAME:GMT
DTSTART:20231029T020000Z
RRULE:FREQ=YEARLY;BYMONTH=10;BYDAY=-1SU
END:STANDARD
END:VTIMEZONE
BEGIN:VEVENT
SUMMARY:Weekday Warhammer: Critical Ops
DTSTAMP:20230224T164952Z
SEQUENCE:0
UID:96-1-199a849dea05b98580177b92a7cad0aa@bolterandchainsword.com
ORGANIZER;CN="Brother Tyler":bolter@bolterandchainsword.com
DESCRIPTION:\n	Critical Ops is a single day tournament for Kill Team Mat
	ched Play.\n\n\n\n	Tickets on sale 6 March at 19:00\n\n\n\n	 \n\n\n\n	Eve
	ntbrite link\n\n\n\n	 \n\n\n\n	Refund Policy\n\n\n\n		Refunds up to 7 day
	s before event\n	\n\n	\n		 \n	\n\n	\n		About this event\n	\n\n	\n		\n			\
	n				\n					Critical Ops is a single day tournament for Kill Team Matched 
	Play. Whether you're a newer player\, an experienced veteran\, or a fantas
	tic hobbyist itching to show off your recently painted models\, Critical O
	ps is a perfect opportunity to spend a day with like-minded hobbyists.\n		
			\n\n				\n					 \n				\n\n				\n					Event Essentials:\n				\n\n				\n	
					System: Kill Team Matched Play\n				\n\n				\n					Registration: Frida
	y 23rd June\, 2023 at 10:00 AM\n				\n\n				\n					Location: Warhammer Wor
	ld\, Willow Rd\, Lenton\, Nottingham\, NG7 2WS\n				\n\n				\n					Mission
	s: Selected from the Critical Ops: Mission Card Pack\n				\n\n				\n					N
	o. of Games: Three\n				\n\n				\n					Kill Team Selection: Create a Match
	ed Roster as described on page 90 of the Kill Team Core Book.\n				\n\n			
		\n					Tools of War: Attendees are expected to bring their Kill Team\, di
	ce\, a tape measure\, all relevant rules publications\, and a copy of thei
	r dataslate.\n				\n\n				\n					 \n				\n\n				\n					Download the event
	 pack here.\n				\n\n				\n					 \n				\n			\n		\n\n		\n			\n				\n					I
	nformation regarding Covid-19 safety precautions at Warhammer World can be
	 found here.\n				\n\n				\n					 \n				\n\n				\n					Please see terms a
	nd conditions below:\n				\n\n				\n					 \n				\n\n				\n					This ticke
	t is issued by Games Workshop Limited (GW) for Kill Team: Critical Ops (Ev
	ent) at the Warhammer World Venue\, Lenton (Venue)\, and is subject to the
	 following terms and conditions:\n				\n\n				\n						No children under th
	e age of 18 years will be admitted to the Venue unless accompanied and sup
	ervised by an adult aged 18 years or over. GW takes no responsibility for 
	children under the age of 18\, responsibility shall remain with the parent
	 or guardian of the relevant child at all times.\n					\n					\n						No s
	moking is permitted at the Venue other than in areas designated for smokin
	g.\n					\n					\n						No food or drink is to be brought into the Venue. 
	The Venue will make available food and drink for purchase.\n					\n					\n
							The unauthorised professional use of photographic equipment is prohi
	bited at the Venue.\n					\n					\n						Event details\, timings and car p
	ark arrangements are subject to change and should be checked prior to trav
	elling.\n					\n					\n						GW and the Venue both reserve the right to co
	nduct security searches to all persons attending the Event and their posse
	ssions.\n					\n					\n						GW and the Venue both reserve the right to\, 
	at their sole discretion\, refuse access to\, or remove from the Venue\, w
	ithout a refund any person who\n					\n				\n					 \n				\n\n				\n					\
	n						- unreasonably refuses to be searched\;\n					\n\n					\n						- is
	 considered harmful\, undesirable or offensive\; or\n					\n\n					\n					
		- is deemed necessary to remove in the interests of security.\n					\n			
		\n\n				\n					 \n				\n\n				\n						The Venue is accessible to wheelch
	air users via the North entrance.\n					\n					\n						Animals are not per
	mitted at the Venue with the exception of assistance dogs.\n					\n					\n
							Official merchandise is only available inside the Venue.\n					\n			
			\n						All attendees must be in possession of a valid ticket at all tim
	es. Obscured or altered tickets will become void and the holder may be ref
	used admission.\n					\n					\n						Neither GW nor the Venue accepts resp
	onsibility for personal property brought into the Venue.\n					\n					\n		
					Entry to the Event is at your own risk. To the extent permitted by law
	\, GW and the Venue exclude all liability for loss\, damage or injury suff
	ered by an attendee howsoever caused.\n					\n					\n						Attendees shall
	 be responsible for and indemnify GW fully for any loss or damage to GW’
	s property\, the Venue or the furnishings or equipment at the Venue caused
	 by the act or default of an attendee.\n					\n					\n						GW may cancel 
	or vary the Event (in whole or in part) due to events or circumstances bey
	ond GW’s control. Where we cancel the Event in its entirety\, you will b
	e offered a refund. However\, in all other circumstances (including where 
	we make changes to the Event)\, you will not be offered a refund. This doe
	s not affect your statutory rights.\n					\n					\n						Purchased tickets
	 cannot be transferred or resold without the express permission of GW.\n		
				\n					\n						Tickets cannot be exchanged or refunded after purchase\,
	 except in the case of a cancelled Event. This does not affect your statut
	ory rights.\n					\n					\n						If you are no longer able to attend the E
	vent and wish to discuss this with us\, please contact the events team at 
	whworldevents@gwplc.com.\n					\n					\n						Any complaints regarding the
	 Event should be made to GW promptly before or during the Event. Please ra
	ise any issues with the tournament organisers and stewards available at th
	e Event\, or otherwise by contacting the events team at whworldevents@gwpl
	c.com..\n					\n					\n						The wearing of costumes at the Event is permi
	tted only on the following basis:\n					\n				\n					 \n				\n\n				\n			
			\n						- Costumes must not be comprised\, in whole or in part\, of any 
	real (or realistic) equipment of any military unit in existence after 1900
	. This especially applies to camouflage clothing\, helmets etc.\n					\n\n
						\n						- Costumes must not utilise\, in whole or in part\, any real\
	, scaled or replica weapons.\n					\n\n					\n						- Costumes that indica
	te allegiance or affiliation with any real political or military movement 
	are strictly forbidden.\n					\n\n					\n						- Costumes must be designed
	 with health and safety and public decency in mind.\n					\n\n					\n					
		- Costumes must be inspired by or relate to the worlds and universes crea
	ted by Games Workshop.\n					\n\n					\n						- Attendees may be asked to 
	alter or remove any unacceptable costume and/or accessories.\n					\n				\
	n\n				\n					 \n				\n			\n		\n	\n\n\n\n	 \n\n
DTSTART:20230623T100000Z
DTEND:20230623T180000Z
END:VEVENT
END:VCALENDAR
